BEGIN:VCALENDAR
VERSION:2.0
PRODID:-//40.70.12.89//NONSGML kigkonsult.se iCalcreator 2.26.9//
CALSCALE:GREGORIAN
METHOD:PUBLISH
X-FROM-URL:https://www.psr.org
X-WR-TIMEZONE:America/New_York
BEGIN:VTIMEZONE
TZID:America/New_York
X-LIC-LOCATION:America/New_York
BEGIN:STANDARD
DTSTART:20211107T020000
TZOFFSETFROM:-0400
TZOFFSETTO:-0500
RDATE:20221106T020000
TZNAME:EST
END:STANDARD
BEGIN:DAYLIGHT
DTSTART:20210314T020000
TZOFFSETFROM:-0500
TZOFFSETTO:-0400
RDATE:20220313T020000
TZNAME:EDT
END:DAYLIGHT
END:VTIMEZONE
BEGIN:VEVENT
UID:ai1ec-6632@www.psr.org
DTSTAMP:20210606T040926Z
CATEGORIES;LANGUAGE=en-US:Connecticut
CONTACT:grnhpeacecouncil@gmail.com\; https://www.facebook.com/groups/261723
 0661852621/?post_id=2617246758517678
DESCRIPTION:Please join us to share poems and community readings and recite
  the Peace Declarations from the Mayors of Hiroshima and Nagasaki Japan.\n
 August 6: 8 AM (EST)\nAugust 9: 10:45 AM (EST)\nSponsor: Greater New Haven
  Peace Council\, City of New Haven Peace Commission
DTSTART;VALUE=DATE:20200806
DTEND;VALUE=DATE:20200810
LOCATION:New Haven\, CT - Flagpole\, New Haven Green
SEQUENCE:0
SUMMARY:75th Anniversary Commemoration of Hiroshima and Nagasaki
URL:https://www.psr.org/blog/event/75th-anniversary-commemoration-of-hirosh
 ima-and-nagasaki/
X-COST-TYPE:free
X-ALT-DESC;FMTTYPE=text/html:<!DOCTYPE HTML PUBLIC '-//W3C//DTD HTML 3.2//E
 N'>\\n<HTML>\\n<HEAD>\\n<TITLE></TITLE>\\n</HEAD>\\n<BODY><input class='fo
 oboxshare_post_id' type='hidden' value='2'/><p>Please join us to share poe
 ms and community readings and recite the Peace Declarations from the Mayor
 s of Hiroshima and Nagasaki Japan.</p>\n<p>August 6: 8 AM (EST)<br />\nAug
 ust 9: 10:45 AM (EST)</p>\n<p>Sponsor: Greater New Haven Peace Council\, C
 ity of New Haven Peace Commission</p>\n</BODY></HTML>
X-TAGS;LANGUAGE=en-US:hiroshima nagasaki
END:VEVENT
END:VCALENDAR
